BEGIN:VCALENDAR
VERSION:2.0
PRODID:-//Tukios.com/
BEGIN:VEVENT
UID:4bbef55d-0618-4320-8cf4-70ad576858ec@www.farnsworthmortuary.com
DTSTAMP:20260423T221621Z
DTSTART:20260425T220000Z
DTEND:20260425T230000Z
SUMMARY:Celebration of Life
DESCRIPTION:
URL:https://www.farnsworthmortuary.com/obituaries/paul-jones
LOCATION: 610 W Main St  Wendell ID 83355
GEO:42.7761741;-114.713287
END:VEVENT
END:VCALENDAR