BEGIN:VCALENDAR
VERSION:2.0
PRODID:-//Tukios.com/
BEGIN:VEVENT
UID:9472e82c-48e0-45c1-8e84-30428c0a22ef@www.farnsworthmortuary.com
DTSTAMP:20260424T033439Z
DTSTART:20260425T170000Z
DTEND:20260425T180000Z
SUMMARY:Funeral Service
DESCRIPTION:
URL:https://www.farnsworthmortuary.com/obituaries/robert-burnham
LOCATION: 825 East Ave B  Jerome ID 83338
GEO:42.721944;-114.505686
END:VEVENT
END:VCALENDAR